BEGIN:VCALENDAR
VERSION:2.0
PRODID:-//HIET - ECPv5.1.0//NONSGML v1.0//EN
CALSCALE:GREGORIAN
METHOD:PUBLISH
X-WR-CALNAME:HIET
X-ORIGINAL-URL:https://www.hiet.in
X-WR-CALDESC:Events for HIET
BEGIN:VTIMEZONE
TZID:Asia/Kolkata
BEGIN:STANDARD
TZOFFSETFROM:+0530
TZOFFSETTO:+0530
TZNAME:IST
DTSTART:20180101T000000
END:STANDARD
END:VTIMEZONE
BEGIN:VEVENT
DTSTART;TZID=Asia/Kolkata:20180129T080000
DTEND;TZID=Asia/Kolkata:20180129T170000
DTSTAMP:20260421T082324
CREATED:20180129T072930Z
LAST-MODIFIED:20240902T105952Z
UID:5445-1517212800-1517245200@www.hiet.in
SUMMARY:ENERGY CONSERVATION DAY PROGRAMME
DESCRIPTION:\n\n\n\n\n\n\n\n\n \n\n\n\n\n\n\n\n\n\n \n\n \n\n\n\n\n\n\n\n\n\n\n\n\n\n\n\n\n\n\n\n\n\n \n\n\n\n\n\n\n\n\n\n\n \n\n\n\n\n\n\n\n\n\n\n \n\n\n\n\n\n\n\n\n\n\n \n\n[vc_row][vc_column][vc_column_text]The earth provides enough to satisfy every man’s needs but not every man’s greed said Gandhiji. Hard facts on why energyconservation is a must for future needs?\nAn old Indian saying describes it this way – The earth\, water and the air are not a gift to us from our parents but a loan from our children. Hence it is essential to make energy conservation a habit to our present and future generation.\nHIET has been organized a day programme of Energy Conservation Day in our college Good Shepard Hall auditorium on 14.12.17 at 10.a.m. Prof. K. Sundararajan\, Principal of Polytechnic College will deliver a key note speech on the graceful occasion. \n[/vc_column_text][/vc_column][/vc_row][vc_row][vc_column][vc_masonry_media_grid element_width=”6″ gap=”15″ filter_size=”md” arrows_design=”none” arrows_position=”inside” arrows_color=”blue” paging_design=”radio_dots” paging_color=”grey” loop=”” autoplay=”-1″ include=”5449\,5448\,5447\,5446″ grid_id=”vc_gid:1725274680023-4fbd95ed-dfa8-10″][/vc_column][/vc_row]\n\n \n \n\n
URL:https://www.hiet.in/event/energy-conservation-day-programme/
LOCATION:HIET Campus\, Padappai\, Chennai\, Tamil Nadu\, India
CATEGORIES:HIET-Event
ATTACH;FMTTYPE=image/jpeg:https://www.hiet.in/wp-content/uploads/2018/01/DSC.jpg
END:VEVENT
END:VCALENDAR