BEGIN:VCALENDAR
VERSION:2.0
PRODID:-//HIET - ECPv5.1.0//NONSGML v1.0//EN
CALSCALE:GREGORIAN
METHOD:PUBLISH
X-WR-CALNAME:HIET
X-ORIGINAL-URL:https://www.hiet.in
X-WR-CALDESC:Events for HIET
BEGIN:VTIMEZONE
TZID:Asia/Kolkata
BEGIN:STANDARD
TZOFFSETFROM:+0530
TZOFFSETTO:+0530
TZNAME:IST
DTSTART:20240101T000000
END:STANDARD
END:VTIMEZONE
BEGIN:VEVENT
DTSTART;VALUE=DATE:20240220
DTEND;VALUE=DATE:20240221
DTSTAMP:20260421T084210
CREATED:20240316T043129Z
LAST-MODIFIED:20240829T091527Z
UID:10954-1708387200-1708473599@www.hiet.in
SUMMARY:Industrial Visit to GARC-ORAGADAM by DAE
DESCRIPTION:\n\n\n\n\n\n\n\n\n \n\n\n\n\n\n\n\n\n\n \n\n \n\n\n\n\n\n\n\n\n\n\n\n\n\n\n\n\n\n\n\n\n\n \n\n[vc_row][vc_column][vc_column_text]Automobile\, Mechanical and Electrical Engineering students visited GARC\, Oragadam on 20/02/2024 for one day industrial visit.[/vc_column_text][/vc_column][/vc_row][vc_row][vc_column][vc_masonry_media_grid element_width=”6″ grid_id=”vc_gid:1710563412504-6c71a8bb-72df-5″ include=”10955″][/vc_column][/vc_row]\n\n \n \n\n
URL:https://www.hiet.in/event/industrial-visit-to-garc-oragadam-by-dae/
LOCATION:GARC\, Oragadam\, Chennai\, Tamil Nadu\, India
CATEGORIES:HIET-Event
ATTACH;FMTTYPE=image/jpeg:https://www.hiet.in/wp-content/uploads/2024/03/garc-oragadam.jpg
END:VEVENT
END:VCALENDAR